BEGIN:VCALENDAR
VERSION:2.0
PRODID:-//GoodLifeSci - ECPv6.15.20//NONSGML v1.0//EN
CALSCALE:GREGORIAN
METHOD:PUBLISH
X-ORIGINAL-URL:https://goodlifesci.sidley.com
X-WR-CALDESC:Events for GoodLifeSci
REFRESH-INTERVAL;VALUE=DURATION:PT1H
X-Robots-Tag:noindex
X-PUBLISHED-TTL:PT1H
BEGIN:VTIMEZONE
TZID:America/New_York
BEGIN:DAYLIGHT
TZOFFSETFROM:-0500
TZOFFSETTO:-0400
TZNAME:EDT
DTSTART:20210314T070000
END:DAYLIGHT
BEGIN:STANDARD
TZOFFSETFROM:-0400
TZOFFSETTO:-0500
TZNAME:EST
DTSTART:20211107T060000
END:STANDARD
BEGIN:DAYLIGHT
TZOFFSETFROM:-0500
TZOFFSETTO:-0400
TZNAME:EDT
DTSTART:20220313T070000
END:DAYLIGHT
BEGIN:STANDARD
TZOFFSETFROM:-0400
TZOFFSETTO:-0500
TZNAME:EST
DTSTART:20221106T060000
END:STANDARD
BEGIN:DAYLIGHT
TZOFFSETFROM:-0500
TZOFFSETTO:-0400
TZNAME:EDT
DTSTART:20230312T070000
END:DAYLIGHT
BEGIN:STANDARD
TZOFFSETFROM:-0400
TZOFFSETTO:-0500
TZNAME:EST
DTSTART:20231105T060000
END:STANDARD
END:VTIMEZONE
BEGIN:VEVENT
DTSTART;TZID=America/New_York:20220518T080000
DTEND;TZID=America/New_York:20220519T160000
DTSTAMP:20260419T121310
CREATED:20220428T171425Z
LAST-MODIFIED:20220506T200842Z
UID:845-1652860800-1652976000@goodlifesci.sidley.com
SUMMARY:Regulatory Reboot: What You Need to Know About Biopharma Regulation in 2022 and Beyond
DESCRIPTION:Join Sidley for a two-day program designed to provide a sophisticated\, comprehensive foundation in regulatory law for in-house lawyers involved in biopharma development\, manufacturing\, and marketing. Whether you are relatively new to regulatory counseling and risk mitigation or more experienced counsel looking for an efficient way to catch up on developments in the law from the past two years\, this event is for you. By the end of the second day\, you’ll have the information and insights you need to tackle any biopharma regulatory issue and know when to worry\, whom to call\, and how and when to scale up. \n \n\nLearn from Sidley’s most experienced biopharmaceutical regulatory lawyers and head back to work with high-quality substantive materials to make your job easier.\nGet to know your instructors and peers during breaks and over dinner — networking is risk management.\nCome as you are — we will provide the conditions you need for a comfortable\, productive learning experience\, from an on-demand barista to comfortable seating\, great tech\, and high-end supplies.\nIf need be\, catch up on work in our newly refurbished\, sunny\, spacious break-out rooms.\n\nClick here to view the full agenda. \nWednesday\, May 18\, 2022 \nFEATURED SESSIONS \n\nDrug Development — Clinical Trials\, Biostatistics\, Real-World Evidence\, and Disputes\nEthics — Ethics Issues Arising in FDA Regulatory Contexts\nStatutory Exclusivities\nAKS/Fraud & Abuse\n\nThursday\, May 19\, 2022 \nFEATURED SESSIONS \n\nSupply Chain Essentials — DSCSA\, PDMA\, GMP\nPublic Company Disclosure Issues — Regulatory and Enforcement (FDA and SEC)\, Class Actions\nEthics Issues Arising in FDA Regulatory Contexts\n\nWHO SHOULD ATTEND \nIn-house counsel with responsibility for regulatory compliance\, analysis\, engagement\, and risk mitigation. \n\nRegister here \nWednesday\, May 18\n8:00 a.m. – 4:30 p.m.\nReception follows: 4:30 p.m. – 6:30 p.m. \nThursday\, May 19\n8:00 a.m. – 4:00 p.m. \n\nCLE credit for this program is pending. \nFor more information\, contact globallifesci@sidley.com.
URL:https://goodlifesci.sidley.com/event/regulatory-reboot-what-you-need-to-know-about-biopharma-regulation-in-2022-and-beyond/
LOCATION:Sidley’s New York Offices\, 787 Seventh Avenue\, New York\, NY\, 10019\, United States
ATTACH;FMTTYPE=image/jpeg:https://goodlifesci.sidley.com/wp-content/uploads/sites/6/2022/04/MN17430-Regulatory-Reboot-757px-banner100-002.jpg
END:VEVENT
END:VCALENDAR