BEGIN:VCALENDAR
VERSION:2.0
PRODID:-//GoodLifeSci - ECPv6.15.20//NONSGML v1.0//EN
CALSCALE:GREGORIAN
METHOD:PUBLISH
X-WR-CALNAME:GoodLifeSci
X-ORIGINAL-URL:https://goodlifesci.sidley.com
X-WR-CALDESC:Events for GoodLifeSci
REFRESH-INTERVAL;VALUE=DURATION:PT1H
X-Robots-Tag:noindex
X-PUBLISHED-TTL:PT1H
BEGIN:VTIMEZONE
TZID:America/Chicago
BEGIN:DAYLIGHT
TZOFFSETFROM:-0600
TZOFFSETTO:-0500
TZNAME:CDT
DTSTART:20230312T080000
END:DAYLIGHT
BEGIN:STANDARD
TZOFFSETFROM:-0500
TZOFFSETTO:-0600
TZNAME:CST
DTSTART:20231105T070000
END:STANDARD
BEGIN:DAYLIGHT
TZOFFSETFROM:-0600
TZOFFSETTO:-0500
TZNAME:CDT
DTSTART:20240310T080000
END:DAYLIGHT
BEGIN:STANDARD
TZOFFSETFROM:-0500
TZOFFSETTO:-0600
TZNAME:CST
DTSTART:20241103T070000
END:STANDARD
BEGIN:DAYLIGHT
TZOFFSETFROM:-0600
TZOFFSETTO:-0500
TZNAME:CDT
DTSTART:20250309T080000
END:DAYLIGHT
BEGIN:STANDARD
TZOFFSETFROM:-0500
TZOFFSETTO:-0600
TZNAME:CST
DTSTART:20251102T070000
END:STANDARD
END:VTIMEZONE
BEGIN:VEVENT
DTSTART;VALUE=DATE:20240501
DTEND;VALUE=DATE:20240502
DTSTAMP:20260422T155520
CREATED:20240416T162301Z
LAST-MODIFIED:20241118T220313Z
UID:1910-1714521600-1714607999@goodlifesci.sidley.com
SUMMARY:Boston Life Sciences Roundtable
DESCRIPTION:Join Sidley at our annual Boston Life Sciences Roundtable for an afternoon of engaging discussion addressing cutting-edge trends and hot topics. \n \n1:30 p.m. Registration | 2:00 p.m. Program | 5:00 p.m. Reception\nFor more information\, contact bosevents@sidley.com. \nFEATURED PANEL TOPICS\n\nI Used To Practice Law: A Conversation with Life Sciences Leaders\nA rare few life sciences leaders have served in both chief legal and chief business officer roles during the course of their careers.  Join our discussion of making the transition  \n\n\n\nAnna Barry\, Venture Partner\, Deerfield Management\nJerald Korn\, Chief Executive Officer\, Ropirio Therapeutics\, Inc.\nAsher Rubin\, Partner\, Global Co-leader\, Technology and Life Sciences Transactions\nBecky Wood\, Partner\, Global Co-leader\, Food\, Drug and Medical Device and former FDA Chief Counsel\n\n\n\nStrategies for Success: Navigating Current Healthcare and FDA Trends for Life Sciences Companies\nThe session will cover hot topics and regulatory developments from both an FDA and healthcare perspective. \n\n\n\nScott Kaplan\, Deputy General Counsel\, Baxter International Inc.\nPeter Smith\, Head of Legal\, argenx US\, Inc.\nDonielle McCutcheon\, Partner\, Healthcare\nJim Johnson\, Partner\, Food\, Drug and Medical Device\n\n\n\nLife Sciences Transactions: Updates and Perspectives on the Market\nFrom green shoots and increased deal activity to supply chain disruptions and Congressional investigations\, this panel will explore important updates affecting the environment for life sciences transactions. \n\n\n\nAndy Meyerson\, Managing Director\, Locust Walk\n\nJason Russell\, Managing Director\, Global Head of Biotechnology\, Morgan Stanley\nMichael Borden\, Partner\, Leader\, Government Strategies\nAlison Lehner\, Partner\, Emerging Companies and Venture Capital\nAdriana Tibbitts\, Partner\, Technology and Life Sciences Transactions
URL:https://goodlifesci.sidley.com/event/boston-life-sciences-roundtable-3/
LOCATION:MassBio Hub\, 700 Technology Square\, Cambridge\, MA 02139
ATTACH;FMTTYPE=image/jpeg:https://goodlifesci.sidley.com/wp-content/uploads/sites/6/2022/06/MN14393-Boston-Life-Sciences-Event-Banner-865px.jpg
END:VEVENT
END:VCALENDAR