BEGIN:VCALENDAR
VERSION:2.0
PRODID:-//GoodLifeSci - ECPv6.15.20//NONSGML v1.0//EN
CALSCALE:GREGORIAN
METHOD:PUBLISH
X-WR-CALNAME:GoodLifeSci
X-ORIGINAL-URL:https://goodlifesci.sidley.com
X-WR-CALDESC:Events for GoodLifeSci
REFRESH-INTERVAL;VALUE=DURATION:PT1H
X-Robots-Tag:noindex
X-PUBLISHED-TTL:PT1H
BEGIN:VTIMEZONE
TZID:America/Los_Angeles
BEGIN:DAYLIGHT
TZOFFSETFROM:-0800
TZOFFSETTO:-0700
TZNAME:PDT
DTSTART:20240310T100000
END:DAYLIGHT
BEGIN:STANDARD
TZOFFSETFROM:-0700
TZOFFSETTO:-0800
TZNAME:PST
DTSTART:20241103T090000
END:STANDARD
BEGIN:DAYLIGHT
TZOFFSETFROM:-0800
TZOFFSETTO:-0700
TZNAME:PDT
DTSTART:20250309T100000
END:DAYLIGHT
BEGIN:STANDARD
TZOFFSETFROM:-0700
TZOFFSETTO:-0800
TZNAME:PST
DTSTART:20251102T090000
END:STANDARD
BEGIN:DAYLIGHT
TZOFFSETFROM:-0800
TZOFFSETTO:-0700
TZNAME:PDT
DTSTART:20260308T100000
END:DAYLIGHT
BEGIN:STANDARD
TZOFFSETFROM:-0700
TZOFFSETTO:-0800
TZNAME:PST
DTSTART:20261101T090000
END:STANDARD
END:VTIMEZONE
BEGIN:VEVENT
DTSTART;TZID=America/Los_Angeles:20250305T130000
DTEND;TZID=America/Los_Angeles:20250305T163000
DTSTAMP:20260419T083855
CREATED:20250124T223249Z
LAST-MODIFIED:20250228T223755Z
UID:2155-1741179600-1741192200@goodlifesci.sidley.com
SUMMARY:Regulatory Know-How for Growth-Stage Life Sciences Innovators
DESCRIPTION:Please join Sidley’s Global Life Sciences team to lean into key early-stage and emerging growth regulatory issues\, and how to tackle them. \n \nIf have questions or are interested in attending\, please contact laevents@sidley.com. \nSessions will focus on: \n\nAll phases of clinical research and development\nPress releases and disclosures\nRegulatory wisdom from experienced emerging growth General Counsels\n\nConnect with industry peers and investors during networking breaks and a post-program cocktail hour. \nThis program is designed for legal professionals and executives to provide a foundation in FDA\, healthcare\, and securities issues arising in development stage companies. \nFeatured Speakers \n\nHimani Bhalla\, Senior Managing Director\, Chief Investment Officer\, and Co-Founder\, Symbiotic Capital\nGreg Bowman\, Senior Director\, Leasing\, Breakthrough Properties\nMichael Brown\, Executive Vice President and Chief\, Legal Officer\, DexCom\, Inc.\nAneta Ferguson\, Senior Vice President and General Counsel\, Adverum Biotechnologies\nMichael Mueller\, General Counsel\, Sidewinder Therapeutics\, Inc.\n\nSidley Speakers \n\nTorey Cope\, Food\, Drug\, and Medical Device Regulatory\nMeenakshi Datta\, Healthcare: Drug and Medical Device Regulatory\nCarlton Fleming\, Capital Markets\nCindy Lovering\, Global Finance\nJames Lu\, Emerging Companies and Venture Capital\nJon Olsen\, M&A\, Emerging Companies and Venture Capital\nAdam Welland\, Technology and Life Sciences Transactions\nSharon Flanagan\, M&A\, Capital Markets\, Corporate Governance\n\nAgenda \n1:00 p.m.: Registration\n1:30 – 4:30 p.m.: \n\nClinical Research Challenges and Opportunities\nKey Considerations for Press Releases and SEC Disclosures\nFireside Chat: The Importance of Regulatory Strategy and Compliance from Seasoned Emerging Growth GCs\n\n4:30 – 6:30 p.m.: Cocktail Reception \nCLE credit for this program is pending.
URL:https://goodlifesci.sidley.com/event/regulatory-know-how-for-growth-stage-life-sciences-innovators/
LOCATION:Torrey Heights\, 11208 El Camino Real\, San Diego\, CA\, 92130\, United States
END:VEVENT
END:VCALENDAR