BEGIN:VCALENDAR
VERSION:2.0
PRODID:-//GoodLifeSci - ECPv6.15.20//NONSGML v1.0//EN
CALSCALE:GREGORIAN
METHOD:PUBLISH
X-ORIGINAL-URL:https://goodlifesci.sidley.com
X-WR-CALDESC:Events for GoodLifeSci
REFRESH-INTERVAL;VALUE=DURATION:PT1H
X-Robots-Tag:noindex
X-PUBLISHED-TTL:PT1H
BEGIN:VTIMEZONE
TZID:America/Chicago
BEGIN:DAYLIGHT
TZOFFSETFROM:-0600
TZOFFSETTO:-0500
TZNAME:CDT
DTSTART:20240310T080000
END:DAYLIGHT
BEGIN:STANDARD
TZOFFSETFROM:-0500
TZOFFSETTO:-0600
TZNAME:CST
DTSTART:20241103T070000
END:STANDARD
BEGIN:DAYLIGHT
TZOFFSETFROM:-0600
TZOFFSETTO:-0500
TZNAME:CDT
DTSTART:20250309T080000
END:DAYLIGHT
BEGIN:STANDARD
TZOFFSETFROM:-0500
TZOFFSETTO:-0600
TZNAME:CST
DTSTART:20251102T070000
END:STANDARD
BEGIN:DAYLIGHT
TZOFFSETFROM:-0600
TZOFFSETTO:-0500
TZNAME:CDT
DTSTART:20260308T080000
END:DAYLIGHT
BEGIN:STANDARD
TZOFFSETFROM:-0500
TZOFFSETTO:-0600
TZNAME:CST
DTSTART:20261101T070000
END:STANDARD
END:VTIMEZONE
BEGIN:VEVENT
DTSTART;VALUE=DATE:20250519
DTEND;VALUE=DATE:20250520
DTSTAMP:20260420T033258
CREATED:20250212T184003Z
LAST-MODIFIED:20250401T204125Z
UID:2163-1747612800-1747699199@goodlifesci.sidley.com
SUMMARY:Boston Life Sciences Roundtable
DESCRIPTION:Join Sidley’s Life Sciences team for an afternoon of thought-provoking and engaging discussions touching on the latest trends and hot topics including the new administration\, new technologies\, the investment landscape\, and more. \n \n\n\nFor more information\, contact bosevents@sidley.com. \n\n\nThis year’s fifth annual event will be held in the stunning Institute of Contemporary Art/Boston lobby\, followed by a reception on the picturesque harbor front plaza. \nPlease see below for details on our newly announced panels and panelists. \nWHO SHOULD ATTEND\nExecutives\, Investors\, General Counsel\, and Company Counsel \nAGENDA\nRegistration: 1:30 p.m. ET\nProgram: 2:00 p.m. ET\nReception: 5:00 p.m. – 6:30 p.m. ET \nFEATURED PANEL TOPICS \nThe New Administration\, Trade Wars\, and GC Strategies For Managing A Changing Environment\nAs the New Administration brings personnel and policy changes to HHS and FDA\, and trade wars add new considerations for product development and manufacturing\, we reflect on key developments and strategies GCs use to successfully manage the opportunities and risks in a changing environment. \n– Lana Gladstein\, General Counsel\, Seaport Therapeutics \n– Jose Truzman\, General Counsel – U.S.\, Intercept Pharmaceuticals\, Inc. \n– Aaron Applebaum\, Counsel\, Global Arbitration\, Trade and Advocacy \n– Jackson Garvey\, Partner\, Restructuring & Liability Management \n– Becky Wood\, Partner\, Global Co-leader\, Food\, Drug and Medical Device and Former Chief Counsel\, FDA \nNew Product Development Pathways for Success\nThis panel will discuss key areas of focus during product development to set companies up for success\, including the use of artificial intelligence (AI)\, pre-approval compliance considerations\, and pricing strategies. \n– Meena Datta\, Partner\, Global Co-leader\, Healthcare\n– Deeona Gaskin\, Partner\, Food\, Drug and Medical Device and Former Associate Chief Counsel for Enforcement\, FDA \nNavigating Life Sciences Transactions in a Dynamic Economic Landscape\nThis panel will discuss the evolving landscape of life sciences transactions\, including emerging trends in the current investment climate. \n– Shaan Gandhi\, Head of Strategic Partnerships\, Pfizer Ignite \n– Paresh Kumar\, Vice President\, Biotech Private Equity\, Ally Bridge Group \n– Jason Tse\, Vice President Corporate Development\, McKesson \n– Chris York\, Vice President\, General Counsel & Chief of Staff\, Orchard Therapeutics \n– Mat Eapen\, Partner\, Investment Funds \nKEYNOTE ADDRESS\n“Get Your Mindset Right”: Thriving in Change\nA Conversation with Kirk Taylor\, MD on Navigating Changing Times \nKirk Taylor\, MD\nPresident & CEO\nMassachusetts Life Sciences Center \nKirk Taylor\, MD is a global pharmaceutical executive with expertise in Phase II – IV drug development\, including CNS\, oncology and rare disease. As Chief Medical Officer\, Chief Strategy Officer and SVP Medical Affairs\, he has restructured organizations\, created strategic operating plans\, and shaped corporate culture. His entrepreneurial acumen assisted in leading biotech start-up companies to successful IPOs and multiple funding rounds. He is people-first focused\, leading teams with respect and innovation. In recognition of his positive impact\, he was awarded the 2023 PharmaVoice 100 Executives Award. \nDr. Taylor received his Bachelor of Arts from Harvard College and studied piano at the Longy School of Music in Cambridge. He completed his Doctor of Medicine from the State University of New York\, Downstate\, his neurology residency at Einstein College of Medicine\, and a post-doc at UCSF.
URL:https://goodlifesci.sidley.com/event/boston-life-sciences-roundtable-4/
LOCATION:The Institute of Contemporary Art/Boston\, 25 Harbor Shore Drive\, Boston\, MA\, 02210\, United States
END:VEVENT
BEGIN:VEVENT
DTSTART;TZID=America/Chicago:20250520T173000
DTEND;TZID=America/Chicago:20250520T200000
DTSTAMP:20260420T033258
CREATED:20250304T201351Z
LAST-MODIFIED:20250324T203422Z
UID:2183-1747762200-1747771200@goodlifesci.sidley.com
SUMMARY:Women’s Life Sciences Network Event – Brussels
DESCRIPTION:Join us in Brussels for our next Women’s Life Sciences Network event on the occasion of the EU Pharmaceutical Law Forum. The event will feature a moderated discussion on topical issues of pharmaceutical legislation and policy. \n \nRSVP here. \nSPEAKERS \n\nRainer Becker\, Director\, DG SANTE\, European Commission\nVictoria Kitcatt\, Vice President and Assistant General Counsel\, Head of EU/International Regulatory Law\, Pfizer\nLaetitia Szaller\, General Counsel\, Head of Compliance and ESG\, Egetis Therapeutics\n\nA Q&A session will follow the discussion. \nAGENDA \n5:30 p.m. – Welcome\n6:00 p.m. – Panel discussion\n7:00 p.m. – Networking reception and canapés \nAll are invited to attend WLSN events.
URL:https://goodlifesci.sidley.com/event/womens-life-sciences-network-event-brussels/
LOCATION:Comet\, Place Stephanie 50\, Brussels\, 1050\, Belgium
END:VEVENT
END:VCALENDAR